BEGIN:VCALENDAR
VERSION:2.0
PRODID:-//Active Families Active Learning Associates - ECPv6.15.20//NONSGML v1.0//EN
CALSCALE:GREGORIAN
METHOD:PUBLISH
X-WR-CALNAME:Active Families Active Learning Associates
X-ORIGINAL-URL:https://activefal.com
X-WR-CALDESC:Events for Active Families Active Learning Associates
REFRESH-INTERVAL;VALUE=DURATION:PT1H
X-Robots-Tag:noindex
X-PUBLISHED-TTL:PT1H
BEGIN:VTIMEZONE
TZID:Asia/Singapore
BEGIN:STANDARD
TZOFFSETFROM:+0800
TZOFFSETTO:+0800
TZNAME:+08
DTSTART:20250101T000000
END:STANDARD
END:VTIMEZONE
BEGIN:VEVENT
DTSTART;TZID=Asia/Singapore:20260503T093000
DTEND;TZID=Asia/Singapore:20260503T183000
DTSTAMP:20260422T011625
CREATED:20260416T053502Z
LAST-MODIFIED:20260416T060336Z
UID:6414-1777800600-1777833000@activefal.com
SUMMARY:LABOUR DAY RAPID 2026
DESCRIPTION:Financial Literacy 				\n				\n				\n				\n					Empowering families with financial literacy
URL:https://activefal.com/events/labour-day-rapid-2026/
LOCATION:Treetop at *SCAPE\, Level 5\, 2 Orchard Link\, 237978\, Singapore
ATTACH;FMTTYPE=image/png:https://activefal.com/wp-content/uploads/2026/04/image-12.png
END:VEVENT
BEGIN:VEVENT
DTSTART;TZID=Asia/Singapore:20260606T080000
DTEND;TZID=Asia/Singapore:20260606T140000
DTSTAMP:20260422T011625
CREATED:20260406T161426Z
LAST-MODIFIED:20260406T161819Z
UID:6390-1780732800-1780754400@activefal.com
SUMMARY:ECOHARMONY COMMUNITY WALK & CHARITY FAIR
DESCRIPTION:Financial Literacy 				\n				\n				\n				\n					Empowering families with financial literacy
URL:https://activefal.com/events/ecoharmony-community-walk-charity-fair/
LOCATION:Passion Wave\, Jurong Lake Gardens\, Singapore
ATTACH;FMTTYPE=image/png:https://activefal.com/wp-content/uploads/2026/04/image-8.png
END:VEVENT
END:VCALENDAR